BEGIN:VCALENDAR
VERSION:2.0
PRODID:icalendar-ruby
CALSCALE:GREGORIAN
METHOD:PUBLISH
BEGIN:VEVENT
DTSTAMP:20260421T213204Z
UID:188-803520@loganstreetbaptist.org
DTSTART:20261102T190000Z
DTEND:20261102T200000Z
CLASS:PUBLIC
CREATED:20260421T144039
DESCRIPTION:Women's Joshua Bible Study\n\n\nLadies\, \n\n\nOur Spring Bibl
 e Study is just around the corner. This spring we will be studying the boo
 k of Joshua. This study is written by Jen Wilkin and is called Joshua: Eve
 ry Good Promise Fulfilled. The cost of the book will be $20.00. This will 
 be a ten-week study from March 16-May 18. You will have two choices of tim
 es on Mondays. The 1:00 class will be led by Rebecca McCormick in the choi
 r room. The 6:00 class will be led by Carla Ellis in room 142. Here is a d
 escription of the study.\nhttps://www.lifeway.com/en/product/ebook-joshua-
 bible-study-book-with-video-access-P005850514\nThere is also a sign up she
 et at the Welcome Center. \n\n\nIf you have any questions\, please give T
 errea Kirsch a call or message. \n\n\n618-214-1520\n\n\nterreakirsch@gmai
 l.com\n\n
LAST-MODIFIED:20260421T144039
LOCATION:Choir Room at 1:00 PM or 142 at 6:00 PM
SUMMARY:Women's Joshua Bible Study
URL;VALUE=URI:https://www.loganstreetbaptist.org/events/womens-joshua-bible
 -study/2026-11-02
ATTACH;FILENAME=Joshua-Study.png;FMTTYPE=image/png:https://dq5pwpg1q8ru0.cl
 oudfront.net/2026/02/26/18/31/22/0848373a-d5e8-4e5e-bfbe-e1b76b684b33/Josh
 ua-Study.png
END:VEVENT
END:VCALENDAR
